Workbook

Sheet 20221001
A1: 商品編號1 | B1: 商品編號2 | C1: 顏色 | D1: 尺碼 | E1: VLOOKUP | F1: 商品名稱 | G1: 單價 | H1: 馬幣分數
A2: AS001-MY | B2: AS001 | E2: =+B2&C2&D2 -> AS001 | F2: Cloth (2 per pack) (White) | G2: 120 | H2: 133
A3: AS002-MY | B3: AS002 | E3: =+B3&C3&D3 -> AS002 | F3: Cloth (White) | G3: 235 | H3: 261
A4: AS003-030-MY | B4: AS003 | C4: GRAY | E4: =+B4&C4&D4 -> AS003GRAY | F4: Stole (Gray) | G4: 430 | H4: 478
A5: AS003-060-MY | B5: AS003 | C5: WINE RED | E5: =+B5&C5&D5 -> AS003WINE RED | F5: Stole (Wine Red) | G5: 430 | H5: 478
A6: AS003-090-MY | B6: AS003 | C6: PALE YELLOW | E6: =+B6&C6&D6 -> AS003PALE YELLOW | F6: Stole (Pale Yellow) | G6: 430 | H6: 478
A7: AS003-220-MY | B7: AS003 | C7: DARK GREEN | E7: =+B7&C7&D7 -> AS003DARK GREEN | F7: Stole (Dark Green) | G7: 430 | H7: 478
A8: AS003-080-MY | B8: AS003 | C8: BLACK | E8: =+B8&C8&D8 -> AS003BLACK | F8: Stole (Black) | G8: 430 | H8: 478
A9: AS003-230-MY | B9: AS003 | C9: ROYAL BLUE | E9: =+B9&C9&D9 -> AS003ROYAL BLUE | F9: Stole (Royal Blue) | G9: 430 | H9: 478
A10: AS003-250-MY | B10: AS003 | C10: RED | E10: =+B10&C10&D10 -> AS003RED | F10: Stole (Red) | G10: 430 | H10: 478
A11: AS003-330-MY | B11: AS003 | C11: ASH BLUE | E11: =+B11&C11&D11 -> AS003ASH BLUE | F11: Stole (Ash Blue) | G11: 430 | H11: 478
A12: AS004-030-MY | B12: AS004 | C12: GRAY X WHITE | E12: =+B12&C12&D12 -> AS004GRAY X WHITE | F12: Stole (Gray x White) | G12: 430 | H12: 478
A13: AS004-060-MY | B13: AS004 | C13: WINE RED X WHITE | E13: =+B13&C13&D13 -> AS004WINE RED X WHITE | F13: Stole (Wine Red x White) | G13: 430 | H13: 478
A14: AS004-090-MY | B14: AS004 | C14: PALE YELLOW X WHITE | E14: =+B14&C14&D14 -> AS004PALE YELLOW X WHITE | F14: Stole (Pale Yellow X White) | G14: 430 | H14: 478
A15: AS004-080-MY | B15: AS004 | C15: BLACK X WHITE | E15: =+B15&C15&D15 -> AS004BLACK X WHITE | F15: Stole (Black x White) | G15: 430 | H15: 478
... A33: AS012-310-MY | B33: AS012 | C33: MINT GREEN | E33: =+B33&C33&D33 -> AS012MINT GREEN | F33: NEORON Body Wrap (Mint Green) | G33: 270 | H33: 300
A34: AS016-013-MY | B34: AS016 | C34: BLUE | D34: M | E34: =+B34&C34&D34 -> AS016BLUEM | F34: Wrist Bands (Blue) M | G34: 175 | H34: 194
A35: AS016-033-MY | B35: AS016 | C35: GRAY | D35: M | E35: =+B35&C35&D35 -> AS016GRAYM | F35: Wrist Bands (Gray) M | G35: 175 | H35: 194
A36: AS016-043-MY | B36: AS016 | C36: PURPLE | D36: M | E36: =+B36&C36&D36 -> AS016PURPLEM | F36: Wrist Bands (Purple) M | G36: 175 | H36: 194
A37: AS016-053-MY | B37: AS016 | C37: PINK | D37: M | E37: =+B37&C37&D37 -> AS016PINKM | F37: Wrist Bands (Pink) M | G37: 175 | H37: 194
A38: AS016-083-MY | B38: AS016 | C38: BLACK | D38: M | E38: =+B38&C38&D38 -> AS016BLACKM | F38: Wrist Bands (Black) M | G38: 175 | H38: 194
A39: AS016-084-MY | B39: AS016 | C39: BLACK | D39: L | E39: =+B39&C39&D39 -> AS016BLACKL | F39: Wrist Bands (Black) L | G39: 195 | H39: 217
A40: AS017-080-MY | B40: AS017 | C40: BLACK | E40: =+B40&C40&D40 -> AS017BLACK | F40: Women's Gloves (Black) | G40: 205 | H40: 228
A41: AS018-080-MY | B41: AS018 | C41: BLACK | E41: =+B41&C41&D41 -> AS018BLACK | F41: Men's Gloves (Black) | G41: 250 | H41: 278
A42: AS020-080-MY | B42: AS020 | C42: BLACK | E42: =+B42&C42&D42 -> AS020BLACK | F42: UV Protection Arm Cover (Black) | G42: 260 | H42: 289
A43: AS022-040-MY | B43: AS022 | C43: PURPLE | E43: =+B43&C43&D43 -> AS022PURPLE | F43: Knitted Beanie (Purple) | G43: 355 | H43: 394
A44: AS022-060-MY | B44: AS022 | C44: WINERED | E44: =+B44&C44&D44 -> AS022WINERED | F44: Knitted Beanie(WineRed) | G44: 355 | H44: 394
A45: AS022-080-MY | B45: AS022 | C45: BLACK | E45: =+B45&C45&D45 -> AS022BLACK | F45: Knitted Beanie(Black) | G45: 355 | H45: 394
A46: AS022-230-MY | B46: AS022 | C46: ROYAL BLUE | E46: =+B46&C46&D46 -> AS022ROYAL BLUE | F46: Knitted Beanie(Royal Blue) | G46: 355 | H46: 394
A47: AS025-170-MY | B47: AS025 | C47: SERENITY BLUE | E47: =+B47&C47&D47 -> AS025SERENITY BLUE | F47: Eye Mask (Serenity Blue) | G47: 160 | H47: 178
A48: AS028-020-MY | B48: AS028 | C48: IVORY | E48: =+B48&C48&D48 -> AS028IVORY | F48: Elegant Neckwarmer (Ivory) | G48: 565 | H48: 628
A49: AS030-050-MY | B49: AS030 | C49: ROSE RED | D49: 85CM | E49: =+B49&C49&D49 -> AS030ROSE RED85CM | F49: Georgette Shawl (Rose Red) 170 x 85cm | G49: 865 | H49: 961
A50: AS030-100-MY | B50: AS030 | C50: ORANGE | D50: 85CM | E50: =+B50&C50&D50 -> AS030ORANGE85CM | F50: Georgette Shawl (Orange) 170 x 85cm | G50: 865 | H50: 961
A51: AS031-020-MY | B51: AS031 | C51: WHITE | E51: =+B51&C51&D51 -> AS031WHITE | F51: NEFFUL Cap (White) | G51: 300 | H51: 0
A52: AS033-080-MY | B52: AS033 | C52: BLACK X GRAY | E52: =+B52&C52&D52 -> AS033BLACK X GRAY | F52: Herringbone Pattern Shawl (Black x Gray) | G52: 1290 | H52: 1433
A53: AS033-090-MY | B53: AS033 | C53: YELLOW X KHAKI | E53: =+B53&C53&D53 -> AS033YELLOW X KHAKI | F53: Herringbone Pattern Shawl (Yellow x Khaki) | G53: 1290 | H53: 1433
A54: AS033-250-MY | B54: AS033 | C54: RED X GRAY | E54: =+B54&C54&D54 -> AS033RED X GRAY | F54: Herringbone Pattern Shawl (Red x Gray) | G54: 1290 | H54: 1433
A55: AS034-050-MY | B55: AS034 | C55: PINK | E55: =+B55&C55&D55 -> AS034PINK | F55: Chiffon Shawl PINK | G55: 675 | H55: 750
A56: AS034-180-MY | B56: AS034 | C56: OLIVE | E56: =+B56&C56&D56 -> AS034OLIVE | F56: Chiffon Shawl OLIVE | G56: 675 | H56: 750
A57: AS035-060-MY | B57: AS035 | C57: WINE RED X BLACK | E57: =+B57&C57&D57 -> AS035WINE RED X BLACK | F57: Spectacles Pattern Shawl (Wine Red X Black) | G57: 1290 | H57: 1433
...

Sheet Invoice
D1: NEFFUL (MALAYSIA) SDN BHD (200601007191)(AJL931652)
D2: 妮 芙 露 ( 馬 來 西 亞 ) 私 人 有 限 公 司
A10: 此表格只用作計算或傳真之用 This form is for CALCULATION or FAX order ONLY
A13: 訂單資料 Order Information： | K13: 訂購日期 Order Date: | M13: =NOW() -> 45196.731
A14: 發票號碼 Invoice No.:
A15: 訂單號碼 Order No: | H15: 付款方法 Payment Method:
A16: 買受人號碼 Distributor No.: | H16: 現金 CASH : | K16: 信用卡 Credit Card :
A17: 買受人姓名 Name of Purchaser: | H17: 信用卡類別 Credit Card Type :
A18: 運送資料 Delivery Information : | H18: 持卡人姓名 Name of Cardholder :
A19: 自取 Self Pickup: | H19: 信用卡號碼 Credit Card No. :
A20: 送貨 Delivery: | H20: 到期日: 月/年 Exp Date: MM/YY
A21: 收貨人姓名 Name of Recipient: | H21: 信用卡檢查碼 Credit Card CVV :
A22: 收件人地址 Delivery Address: | H22: 持卡人簽署 : CardHolder Authorised Signature :
A24: 收件人電話 Contact No.:
B26: 商品編號 Product code | D26: 顏色 Color | F26: 尺碼 Size | G26: 商品名稱 Description | I26: 數量 QTY | J26: 單價 Unit Price | K26: 馬幣分數 MYR Volume | L26: 總額(馬幣) Amount (MYR) | M26: 總分數 Total Volume | P26: VLOOKUP
A27: #01 | G27: =IFERROR(VLOOKUP($P27,'20221001'!$E:$H,2,0),"") | J27: =IFERROR(VLOOKUP($P27,'20221001'!$E:$H,3,0),"") | K27: =IFERROR(VLOOKUP($P27,'20221001'!$E:$H,4,0),"") | L27: =IFERROR(J27*I27,"") | M27: =IFERROR(K27*I27,"") | P27: =+B27&D27&F27
A28: #02 | G28: =IFERROR(VLOOKUP($P28,'20221001'!$E:$H,2,0),"") | J28: =IFERROR(VLOOKUP($P28,'20221001'!$E:$H,3,0),"") | K28: =IFERROR(VLOOKUP($P28,'20221001'!$E:$H,4,0),"") | L28: =IFERROR(J28*I28,"") | M28: =IFERROR(K28*I28,"") | P28: =+B28&D28&F28
A29: #03 | G29: =IFERROR(VLOOKUP($P29,'20221001'!$E:$H,2,0),"") | J29: =IFERROR(VLOOKUP($P29,'20221001'!$E:$H,3,0),"") | K29: =IFERROR(VLOOKUP($P29,'20221001'!$E:$H,4,0),"") | L29: =IFERROR(J29*I29,"") | M29: =IFERROR(K29*I29,"") | P29: =+B29&D29&F29
A30: #04 | G30: =IFERROR(VLOOKUP($P30,'20221001'!$E:$H,2,0),"") | J30: =IFERROR(VLOOKUP($P30,'20221001'!$E:$H,3,0),"") | K30: =IFERROR(VLOOKUP($P30,'20221001'!$E:$H,4,0),"") | L30: =IFERROR(J30*I30,"") | M30: =IFERROR(K30*I30,"") | P30: =+B30&D30&F30
A31: #05 | G31: =IFERROR(VLOOKUP($P31,'20221001'!$E:$H,2,0),"") | J31: =IFERROR(VLOOKUP($P31,'20221001'!$E:$H,3,0),"") | K31: =IFERROR(VLOOKUP($P31,'20221001'!$E:$H,4,0),"") | L31: =IFERROR(J31*I31,"") | M31: =IFERROR(K31*I31,"") | P31: =+B31&D31&F31
A32: #06 | G32: =IFERROR(VLOOKUP($P32,'20221001'!$E:$H,2,0),"") | J32: =IFERROR(VLOOKUP($P32,'20221001'!$E:$H,3,0),"") | K32: =IFERROR(VLOOKUP($P32,'20221001'!$E:$H,4,0),"") | L32: =IFERROR(J32*I32,"") | M32: =IFERROR(K32*I32,"") | P32: =+B32&D32&F32
A33: #07 | G33: =IFERROR(VLOOKUP($P33,'20221001'!$E:$H,2,0),"") | J33: =IFERROR(VLOOKUP($P33,'20221001'!$E:$H,3,0),"") | K33: =IFERROR(VLOOKUP($P33,'20221001'!$E:$H,4,0),"") | L33: =IFERROR(J33*I33,"") | M33: =IFERROR(K33*I33,"") | P33: =+B33&D33&F33
A34: #08 | G34: =IFERROR(VLOOKUP($P34,'20221001'!$E:$H,2,0),"") | J34: =IFERROR(VLOOKUP($P34,'20221001'!$E:$H,3,0),"") | K34: =IFERROR(VLOOKUP($P34,'20221001'!$E:$H,4,0),"") | L34: =IFERROR(J34*I34,"") | M34: =IFERROR(K34*I34,"") | P34: =+B34&D34&F34
A35: #09 | G35: =IFERROR(VLOOKUP($P35,'20221001'!$E:$H,2,0),"") | J35: =IFERROR(VLOOKUP($P35,'20221001'!$E:$H,3,0),"") | K35: =IFERROR(VLOOKUP($P35,'20221001'!$E:$H,4,0),"") | L35: =IFERROR(J35*I35,"") | M35: =IFERROR(K35*I35,"") | P35: =+B35&D35&F35
A36: #10 | G36: =IFERROR(VLOOKUP($P36,'20221001'!$E:$H,2,0),"") | J36: =IFERROR(VLOOKUP($P36,'20221001'!$E:$H,3,0),"") | K36: =IFERROR(VLOOKUP($P36,'20221001'!$E:$H,4,0),"") | L36: =IFERROR(J36*I36,"") | M36: =IFERROR(K36*I36,"") | P36: =+B36&D36&F36
A37: #11 | G37: =IFERROR(VLOOKUP($P37,'20221001'!$E:$H,2,0),"") | J37: =IFERROR(VLOOKUP($P37,'20221001'!$E:$H,3,0),"") | K37: =IFERROR(VLOOKUP($P37,'20221001'!$E:$H,4,0),"") | L37: =IFERROR(J37*I37,"") | M37: =IFERROR(K37*I37,"") | P37: =+B37&D37&F37
A38: #12 | G38: =IFERROR(VLOOKUP($P38,'20221001'!$E:$H,2,0),"") | J38: =IFERROR(VLOOKUP($P38,'20221001'!$E:$H,3,0),"") | K38: =IFERROR(VLOOKUP($P38,'20221001'!$E:$H,4,0),"") | L38: =IFERROR(J38*I38,"") | M38: =IFERROR(K38*I38,"") | P38: =+B38&D38&F38
... A50: #24 | G50: =IFERROR(VLOOKUP($P50,'20221001'!$E:$H,2,0),"") | J50: =IFERROR(VLOOKUP($P50,'20221001'!$E:$H,3,0),"") | K50: =IFERROR(VLOOKUP($P50,'20221001'!$E:$H,4,0),"") | L50: =IFERROR(J50*I50,"") | M50: =IFERROR(K50*I50,"") | P50: =+B50&D50&F50
A51: #25 | G51: =IFERROR(VLOOKUP(P51,'20221001'!$E:$H,2,0),"") | J51: =IFERROR(VLOOKUP($P51,'20221001'!$E:$H,3,0),"") | K51: =IFERROR(VLOOKUP($P51,'20221001'!$E:$H,4,0),"") | L51: =IFERROR(J51*I51,"") | M51: =IFERROR(K51*I51,"") | P51: =+B51&D51&F51
G52: 商品總數 Total QTY: | I52: =SUM(I27:I51) -> 0 | J52: 總數 Amount： | L52: =SUM(L27:L51) -> 0 | M52: =SUM(M27:M51) -> 0
H55: 提貨人簽名 Signature of Collector
A58: 西馬運費 *訂單金額未達RM4,000需自付基本運費RM20，除非另做聲明。 *含潔淨洗劑及事業袋之訂單將征收額外運費：_x000B_> 潔淨洗劑：500ml /125ml x 6 (每瓶/組) – RM1；1200ml(每瓶) – RM2_x000B_> 事業袋：首6組 - RM20；第7組起：每組RM5，以此類推 *寄貨將於三至五個工作日內完成。 Peninsular Shipping Fees *Free delivery for orders above RM4,000. Delivery fee of RM20 will be incurred for orders below stipulated amount, unless stated otherwise. *Additional charges for orders that consists of Bio Clean Detergent and Distributor Kit are applicable as follow:_x000B_> Bio Clean Detergent: 500ml/125ml x 5 – RM1 per bottle/box; 1200ml - RM2 per bottle._x000B_> Distributor Kit: First 6 kits - RM20; every subsequent kit - RM5 each *Delivery may take 3 to 5 working days. 東馬運費 *訂單金額未達RM4,000需自付基本運費RM40，除非另做聲明。 *含潔淨洗劑及事業袋之訂單將征收額外運費：_x000B_> 潔淨洗劑：NS02/NS005(每瓶/組) – RM6；NS03(每瓶) – RM12_x000B_> 事業袋：首6組 - RM40；第7組起：每組RM10，以此類推 *寄貨將於三至五個工作日內完成。 East Malaysia Shipping Fees *Free delivery for orders above RM4,000. Delivery fee of RM40 will be incurred for orders below stipulated amount, unless stated otherwise. *Additional charges for orders that consists of Bio Clean Detergent and Distributor Kit are applicable as follow:_x000B_> Bio Clean Detergent: NS02/NS005 – RM6 per bottle/box; NS03 - RM12 per bottle._x000B_> Distributor Kit: First 6 kits - RM40; every subsequent kit - RM10 each *Delivery may take 3 to 5 working days.
A59: 商品買受人得於提示委託付款人簽名後向本公司申請委託第三人 (受託付款人、受託提貨人) 辦理付款及提領商品事宜惟若委任內容有偽造、瑕疵等情形，則應由商品買受人及受託人間協調解決，本公司不負任何賠償及法律責任，且得依法執行任何法定權利。 After the purchaser asks the entrusted payer to sign the name, can he/she apply to our company to entrust the third party (entrusted payer, entrusted person taking the delivery) to handle the payment and take the delivery of goods. In case there is fake or defect situations involved with the entrustment, it is up to the purchaser and the entrusted person to solved it through coordination. Our company will not bear any compensation or legal responsibilities. Any legal rights should be executed according to the law.
