BEGIN:VCALENDAR
VERSION:2.0
PRODID:-//RIGHTHERE//CALENDARIZE IT V3.2//EN
BEGIN:VTIMEZONE
TZID:Asia/Kuala_Lumpur
END:VTIMEZONE
BEGIN:VEVENT
UID:823-events@nefful.com.my
DTSTART;VALUE=DATE:20161031
DTEND;VALUE=DATE:20161031
DTSTAMP;TZID=Asia/Kuala_Lumpur:20161209T152220
SUMMARY:Stock Check Day
DESCRIPTION:Company closed on 31th OCTOBER for stock check purpose<br/>\n31
 /10 為內部盤點日\, 故無對外營業
END:VEVENT
END:VCALENDAR