BEGIN:VCALENDAR
VERSION:2.0
PRODID:-//RIGHTHERE//CALENDARIZE IT V3.2//EN
BEGIN:VTIMEZONE
TZID:Asia/Kuala_Lumpur
END:VTIMEZONE
BEGIN:VEVENT
UID:3293-events@nefful.com.my
DTSTART;VALUE=DATE:20181013
DTEND;VALUE=DATE:20181013
DTSTAMP;TZID=Asia/Kuala_Lumpur:20180702T165038
SUMMARY:Special Business Day (Kuala Lumpur Office & Penang Office)
DESCRIPTION:Special Business Day from 1:00p.m - 5:00 p.m. (No Shipping serv
 ice provided on this day).
RDATE;TZID=Asia/Kuala_Lumpur:20181027T000000
END:VEVENT
END:VCALENDAR