BEGIN:VCALENDAR
VERSION:2.0
PRODID:-//RIGHTHERE//CALENDARIZE IT V3.2//EN
BEGIN:VTIMEZONE
TZID:Asia/Kuala_Lumpur
END:VTIMEZONE
BEGIN:VEVENT
UID:23785-events@nefful.com.my
DTSTART;VALUE=DATE:20260331
DTEND;VALUE=DATE:20260331
DTSTAMP;TZID=Asia/Kuala_Lumpur:20260228T100820
SUMMARY:Stock Taking Day
DESCRIPTION:Office closed for stock check purposes.
END:VEVENT
END:VCALENDAR