BEGIN:VCALENDAR
VERSION:2.0
PRODID:-//RIGHTHERE//CALENDARIZE IT V3.2//EN
BEGIN:VTIMEZONE
TZID:Asia/Kuala_Lumpur
END:VTIMEZONE
BEGIN:VEVENT
UID:14665-events@nefful.com.my
DTSTART;VALUE=DATE:20221129
DTEND;VALUE=DATE:20221129
DTSTAMP;TZID=Asia/Kuala_Lumpur:20220825T145552
SUMMARY:November Sales Closing Day
DESCRIPTION:29th November is the Sales Closing Day - All transactions have 
 to be deal before 5:00 p.m. No more transaction(s) allowed onward.
END:VEVENT
END:VCALENDAR